BEGIN:VCALENDAR
VERSION:2.0
PRODID:-//Department Of Education//514b8fa2-b9e0-4feb-a1a9-5547485405af
BEGIN:VTIMEZONE
TZID:Australia/Sydney
TZURL:http://tzurl.org/zoneinfo-outlook/Australia/Sydney
X-LIC-LOCATION:Australia/Sydney
BEGIN:STANDARD
TZOFFSETFROM:+1100
TZOFFSETTO:+1000
TZNAME:AEST
DTSTART:19700405T030000
RRULE:FREQ=YEARLY;BYMONTH=4;BYDAY=1SU
END:STANDARD
BEGIN:DAYLIGHT
TZOFFSETFROM:+1000
TZOFFSETTO:+1100
TZNAME:AEDT
DTSTART:19701004T020000
RRULE:FREQ=YEARLY;BYMONTH=10;BYDAY=1SU
END:DAYLIGHT
END:VTIMEZONE
CALSCALE:GREGORIAN
X-WR-TIMEZONE:Australia/Sydney
BEGIN:VEVENT
DTSTART;TZID=Australia/Sydney:20180503T141500
DTEND;TZID=Australia/Sydney:20180503T150000
DTSTAMP:20180503T141500Z
UID:0327bd45-e15b-4c1a-9ebb-1e3fd09d394e
LOCATION:
SUMMARY;LANGUAGE=en-us:ANZAC Assembly
SEQUENCE:0
DESCRIPTION:ANZAC Assembly
END:VEVENT
TRANSP:TRANSPARENT
END:VCALENDAR
