BEGIN:VCALENDAR
VERSION:2.0
PRODID:-//Department Of Education//c0d41555-0754-4097-86b9-24fef5374e3a
BEGIN:VTIMEZONE
TZID:Australia/Sydney
TZURL:http://tzurl.org/zoneinfo-outlook/Australia/Sydney
X-LIC-LOCATION:Australia/Sydney
BEGIN:STANDARD
TZOFFSETFROM:+1100
TZOFFSETTO:+1000
TZNAME:AEST
DTSTART:19700405T030000
RRULE:FREQ=YEARLY;BYMONTH=4;BYDAY=1SU
END:STANDARD
BEGIN:DAYLIGHT
TZOFFSETFROM:+1000
TZOFFSETTO:+1100
TZNAME:AEDT
DTSTART:19701004T020000
RRULE:FREQ=YEARLY;BYMONTH=10;BYDAY=1SU
END:DAYLIGHT
END:VTIMEZONE
CALSCALE:GREGORIAN
X-WR-TIMEZONE:Australia/Sydney
BEGIN:VEVENT
DTSTART;TZID=Australia/Sydney:20180511T080000
DTEND;TZID=Australia/Sydney:20180511T090000
DTSTAMP:20180511T080000Z
UID:136f2451-3454-433c-a81c-6c3945d5f81f
LOCATION:
SUMMARY;LANGUAGE=en-us:Mother's Day Breakfast
SEQUENCE:0
DESCRIPTION:Mother's Day Breakfast
END:VEVENT
TRANSP:TRANSPARENT
END:VCALENDAR
