BEGIN:VCALENDAR
VERSION:2.0
PRODID:-//Department Of Education//012a4ac1-b126-47ec-be0e-678772b589e6
BEGIN:VTIMEZONE
TZID:Australia/Sydney
TZURL:http://tzurl.org/zoneinfo-outlook/Australia/Sydney
X-LIC-LOCATION:Australia/Sydney
BEGIN:STANDARD
TZOFFSETFROM:+1100
TZOFFSETTO:+1000
TZNAME:AEST
DTSTART:19700405T030000
RRULE:FREQ=YEARLY;BYMONTH=4;BYDAY=1SU
END:STANDARD
BEGIN:DAYLIGHT
TZOFFSETFROM:+1000
TZOFFSETTO:+1100
TZNAME:AEDT
DTSTART:19701004T020000
RRULE:FREQ=YEARLY;BYMONTH=10;BYDAY=1SU
END:DAYLIGHT
END:VTIMEZONE
CALSCALE:GREGORIAN
X-WR-TIMEZONE:Australia/Sydney
BEGIN:VEVENT
DTSTART;VALUE=DATE:20180511
DTEND;VALUE=DATE:20180512
DTSTAMP:20180511T000000Z
UID:80fd4412-dce1-4a25-80bb-452407b25cfe
LOCATION:
SUMMARY;LANGUAGE=en-us:Mother's Day Stall
SEQUENCE:0
DESCRIPTION:Mother's Day Stall
END:VEVENT
TRANSP:TRANSPARENT
END:VCALENDAR
