BEGIN:VCALENDAR
VERSION:2.0
PRODID:-//Department Of Education//57a35f94-714b-4386-a091-7853d8ee3c51
BEGIN:VTIMEZONE
TZID:Australia/Sydney
TZURL:http://tzurl.org/zoneinfo-outlook/Australia/Sydney
X-LIC-LOCATION:Australia/Sydney
BEGIN:STANDARD
TZOFFSETFROM:+1100
TZOFFSETTO:+1000
TZNAME:AEST
DTSTART:19700405T030000
RRULE:FREQ=YEARLY;BYMONTH=4;BYDAY=1SU
END:STANDARD
BEGIN:DAYLIGHT
TZOFFSETFROM:+1000
TZOFFSETTO:+1100
TZNAME:AEDT
DTSTART:19701004T020000
RRULE:FREQ=YEARLY;BYMONTH=10;BYDAY=1SU
END:DAYLIGHT
END:VTIMEZONE
CALSCALE:GREGORIAN
X-WR-TIMEZONE:Australia/Sydney
BEGIN:VEVENT
DTSTART;VALUE=DATE:20180518
DTEND;VALUE=DATE:20180519
DTSTAMP:20180518T000000Z
UID:55ad1e5f-68e7-42b9-9791-74e0e677d98d
LOCATION:
SUMMARY;LANGUAGE=en-us:NAPLAN - Catch Up
SEQUENCE:0
DESCRIPTION:If required for students who have missed earlier testing.
END:VEVENT
TRANSP:TRANSPARENT
END:VCALENDAR
