BEGIN:VCALENDAR
VERSION:2.0
PRODID:-//Department Of Education//c9e1711f-1cf8-49fc-a2f3-f30297df6004
BEGIN:VTIMEZONE
TZID:Australia/Sydney
TZURL:http://tzurl.org/zoneinfo-outlook/Australia/Sydney
X-LIC-LOCATION:Australia/Sydney
BEGIN:STANDARD
TZOFFSETFROM:+1100
TZOFFSETTO:+1000
TZNAME:AEST
DTSTART:19700405T030000
RRULE:FREQ=YEARLY;BYMONTH=4;BYDAY=1SU
END:STANDARD
BEGIN:DAYLIGHT
TZOFFSETFROM:+1000
TZOFFSETTO:+1100
TZNAME:AEDT
DTSTART:19701004T020000
RRULE:FREQ=YEARLY;BYMONTH=10;BYDAY=1SU
END:DAYLIGHT
END:VTIMEZONE
CALSCALE:GREGORIAN
X-WR-TIMEZONE:Australia/Sydney
BEGIN:VEVENT
DTSTART;TZID=Australia/Sydney:20180515T090000
DTEND;TZID=Australia/Sydney:20180515T130000
DTSTAMP:20180515T090000Z
UID:61c602d8-871f-4bf3-83e8-2e5ffd38c732
LOCATION:
SUMMARY;LANGUAGE=en-us:NAPLAN - Test 1 and 2
SEQUENCE:0
DESCRIPTION:Language Conventions and Writing
END:VEVENT
TRANSP:TRANSPARENT
END:VCALENDAR
