BEGIN:VCALENDAR
VERSION:2.0
PRODID:-//Department Of Education//e940c377-f623-4f2b-bf25-b4cbc548b50d
BEGIN:VTIMEZONE
TZID:Australia/Sydney
TZURL:http://tzurl.org/zoneinfo-outlook/Australia/Sydney
X-LIC-LOCATION:Australia/Sydney
BEGIN:STANDARD
TZOFFSETFROM:+1100
TZOFFSETTO:+1000
TZNAME:AEST
DTSTART:19700405T030000
RRULE:FREQ=YEARLY;BYMONTH=4;BYDAY=1SU
END:STANDARD
BEGIN:DAYLIGHT
TZOFFSETFROM:+1000
TZOFFSETTO:+1100
TZNAME:AEDT
DTSTART:19701004T020000
RRULE:FREQ=YEARLY;BYMONTH=10;BYDAY=1SU
END:DAYLIGHT
END:VTIMEZONE
CALSCALE:GREGORIAN
X-WR-TIMEZONE:Australia/Sydney
BEGIN:VEVENT
DTSTART;TZID=Australia/Sydney:20180516T090000
DTEND;TZID=Australia/Sydney:20180516T110000
DTSTAMP:20180516T090000Z
UID:976b8c65-5b55-4ea2-863e-c131a7f7e3a7
LOCATION:
SUMMARY;LANGUAGE=en-us:NAPLAN - Test 3
SEQUENCE:0
DESCRIPTION:Reading
END:VEVENT
TRANSP:TRANSPARENT
END:VCALENDAR
