BEGIN:VCALENDAR
VERSION:2.0
PRODID:-//Department Of Education//e38cd9e7-37ab-439e-8b7a-52588bae947b
BEGIN:VTIMEZONE
TZID:Australia/Sydney
TZURL:http://tzurl.org/zoneinfo-outlook/Australia/Sydney
X-LIC-LOCATION:Australia/Sydney
BEGIN:STANDARD
TZOFFSETFROM:+1100
TZOFFSETTO:+1000
TZNAME:AEST
DTSTART:19700405T030000
RRULE:FREQ=YEARLY;BYMONTH=4;BYDAY=1SU
END:STANDARD
BEGIN:DAYLIGHT
TZOFFSETFROM:+1000
TZOFFSETTO:+1100
TZNAME:AEDT
DTSTART:19701004T020000
RRULE:FREQ=YEARLY;BYMONTH=10;BYDAY=1SU
END:DAYLIGHT
END:VTIMEZONE
CALSCALE:GREGORIAN
X-WR-TIMEZONE:Australia/Sydney
BEGIN:VEVENT
DTSTART;TZID=Australia/Sydney:20180517T090000
DTEND;TZID=Australia/Sydney:20180517T110000
DTSTAMP:20180517T090000Z
UID:7659dcc3-d0c7-47d7-967f-21c9346c2677
LOCATION:
SUMMARY;LANGUAGE=en-us:NAPLAN - Test 4
SEQUENCE:0
DESCRIPTION:Numeracy
END:VEVENT
TRANSP:TRANSPARENT
END:VCALENDAR
