BEGIN:VCALENDAR
VERSION:2.0
PRODID:-//Department Of Education//28d1e18c-cf86-44e8-8258-61acf166e5b3
BEGIN:VTIMEZONE
TZID:Australia/Sydney
TZURL:http://tzurl.org/zoneinfo-outlook/Australia/Sydney
X-LIC-LOCATION:Australia/Sydney
BEGIN:STANDARD
TZOFFSETFROM:+1100
TZOFFSETTO:+1000
TZNAME:AEST
DTSTART:19700405T030000
RRULE:FREQ=YEARLY;BYMONTH=4;BYDAY=1SU
END:STANDARD
BEGIN:DAYLIGHT
TZOFFSETFROM:+1000
TZOFFSETTO:+1100
TZNAME:AEDT
DTSTART:19701004T020000
RRULE:FREQ=YEARLY;BYMONTH=10;BYDAY=1SU
END:DAYLIGHT
END:VTIMEZONE
CALSCALE:GREGORIAN
X-WR-TIMEZONE:Australia/Sydney
BEGIN:VEVENT
DTSTART;VALUE=DATE:20180525
DTEND;VALUE=DATE:20180526
DTSTAMP:20180525T000000Z
UID:dd034976-e636-4f04-a7a9-a3e3182a36ea
LOCATION:
SUMMARY;LANGUAGE=en-us:National Sorry Day
SEQUENCE:0
DESCRIPTION:National Sorry Day
END:VEVENT
TRANSP:TRANSPARENT
END:VCALENDAR
