BEGIN:VCALENDAR
VERSION:2.0
PRODID:-//Department Of Education//e5bbbb29-6cde-4aaa-8a21-c6f0cf6b46da
BEGIN:VTIMEZONE
TZID:Australia/Sydney
TZURL:http://tzurl.org/zoneinfo-outlook/Australia/Sydney
X-LIC-LOCATION:Australia/Sydney
BEGIN:STANDARD
TZOFFSETFROM:+1100
TZOFFSETTO:+1000
TZNAME:AEST
DTSTART:19700405T030000
RRULE:FREQ=YEARLY;BYMONTH=4;BYDAY=1SU
END:STANDARD
BEGIN:DAYLIGHT
TZOFFSETFROM:+1000
TZOFFSETTO:+1100
TZNAME:AEDT
DTSTART:19701004T020000
RRULE:FREQ=YEARLY;BYMONTH=10;BYDAY=1SU
END:DAYLIGHT
END:VTIMEZONE
CALSCALE:GREGORIAN
X-WR-TIMEZONE:Australia/Sydney
BEGIN:VEVENT
DTSTART;TZID=Australia/Sydney:20180510T141500
DTEND;TZID=Australia/Sydney:20180510T150000
DTSTAMP:20180510T141500Z
UID:3f05bcb1-9e57-485b-9c0e-f80e0a6cdacb
LOCATION:
SUMMARY;LANGUAGE=en-us:School Assembly
SEQUENCE:0
DESCRIPTION:School Assembly
END:VEVENT
TRANSP:TRANSPARENT
END:VCALENDAR
