BEGIN:VCALENDAR
VERSION:2.0
PRODID:-//Department Of Education//c818f362-bcdd-4a42-b871-cec0cae50378
BEGIN:VTIMEZONE
TZID:Australia/Sydney
TZURL:http://tzurl.org/zoneinfo-outlook/Australia/Sydney
X-LIC-LOCATION:Australia/Sydney
BEGIN:STANDARD
TZOFFSETFROM:+1100
TZOFFSETTO:+1000
TZNAME:AEST
DTSTART:19700405T030000
RRULE:FREQ=YEARLY;BYMONTH=4;BYDAY=1SU
END:STANDARD
BEGIN:DAYLIGHT
TZOFFSETFROM:+1000
TZOFFSETTO:+1100
TZNAME:AEDT
DTSTART:19701004T020000
RRULE:FREQ=YEARLY;BYMONTH=10;BYDAY=1SU
END:DAYLIGHT
END:VTIMEZONE
CALSCALE:GREGORIAN
X-WR-TIMEZONE:Australia/Sydney
BEGIN:VEVENT
DTSTART;VALUE=DATE:20180530
DTEND;VALUE=DATE:20180531
DTSTAMP:20180530T000000Z
UID:ba92f3f2-fb2c-485f-bb69-09259f2233d4
LOCATION:
SUMMARY;LANGUAGE=en-us:School Athletics Carnival K-6
SEQUENCE:0
DESCRIPTION:To be held at Beaton Park Athletics Track.
END:VEVENT
TRANSP:TRANSPARENT
END:VCALENDAR
