BEGIN:VCALENDAR
VERSION:2.0
PRODID:-//Department Of Education//abaef18e-0142-4d94-b9e5-1b76e082b1f2
BEGIN:VTIMEZONE
TZID:Australia/Sydney
TZURL:http://tzurl.org/zoneinfo-outlook/Australia/Sydney
X-LIC-LOCATION:Australia/Sydney
BEGIN:STANDARD
TZOFFSETFROM:+1100
TZOFFSETTO:+1000
TZNAME:AEST
DTSTART:19700405T030000
RRULE:FREQ=YEARLY;BYMONTH=4;BYDAY=1SU
END:STANDARD
BEGIN:DAYLIGHT
TZOFFSETFROM:+1000
TZOFFSETTO:+1100
TZNAME:AEDT
DTSTART:19701004T020000
RRULE:FREQ=YEARLY;BYMONTH=10;BYDAY=1SU
END:DAYLIGHT
END:VTIMEZONE
CALSCALE:GREGORIAN
X-WR-TIMEZONE:Australia/Sydney
BEGIN:VEVENT
DTSTART;VALUE=DATE:20180501
DTEND;VALUE=DATE:20180502
DTSTAMP:20180501T000000Z
UID:e887e55e-27c7-4f20-b137-9009a1088d89
LOCATION:
SUMMARY;LANGUAGE=en-us:Students Return
SEQUENCE:0
DESCRIPTION:Students Return
END:VEVENT
TRANSP:TRANSPARENT
END:VCALENDAR
