BEGIN:VCALENDAR
VERSION:2.0
PRODID:-//Department Of Education//65753166-564e-490c-a4cc-a8adca3e8020
BEGIN:VTIMEZONE
TZID:Australia/Sydney
TZURL:http://tzurl.org/zoneinfo-outlook/Australia/Sydney
X-LIC-LOCATION:Australia/Sydney
BEGIN:STANDARD
TZOFFSETFROM:+1100
TZOFFSETTO:+1000
TZNAME:AEST
DTSTART:19700405T030000
RRULE:FREQ=YEARLY;BYMONTH=4;BYDAY=1SU
END:STANDARD
BEGIN:DAYLIGHT
TZOFFSETFROM:+1000
TZOFFSETTO:+1100
TZNAME:AEDT
DTSTART:19701004T020000
RRULE:FREQ=YEARLY;BYMONTH=10;BYDAY=1SU
END:DAYLIGHT
END:VTIMEZONE
CALSCALE:GREGORIAN
X-WR-TIMEZONE:Australia/Sydney
BEGIN:VEVENT
DTSTART;TZID=Australia/Sydney:20180629T150000
DTEND;TZID=Australia/Sydney:20180629T151500
DTSTAMP:20180629T150000Z
UID:7f7d4ef4-848a-427f-aa24-9e942f1241ea
LOCATION:
SUMMARY;LANGUAGE=en-us:Semester 1 Reports Home
SEQUENCE:0
DESCRIPTION:Semester 1 Reports Home
END:VEVENT
TRANSP:TRANSPARENT
END:VCALENDAR
