BEGIN:VCALENDAR
VERSION:2.0
PRODID:-//Department Of Education//b8b59330-4f6a-4d90-8840-2c11c0cbfcf5
BEGIN:VTIMEZONE
TZID:Australia/Sydney
TZURL:http://tzurl.org/zoneinfo-outlook/Australia/Sydney
X-LIC-LOCATION:Australia/Sydney
BEGIN:STANDARD
TZOFFSETFROM:+1100
TZOFFSETTO:+1000
TZNAME:AEST
DTSTART:19700405T030000
RRULE:FREQ=YEARLY;BYMONTH=4;BYDAY=1SU
END:STANDARD
BEGIN:DAYLIGHT
TZOFFSETFROM:+1000
TZOFFSETTO:+1100
TZNAME:AEDT
DTSTART:19701004T020000
RRULE:FREQ=YEARLY;BYMONTH=10;BYDAY=1SU
END:DAYLIGHT
END:VTIMEZONE
CALSCALE:GREGORIAN
X-WR-TIMEZONE:Australia/Sydney
BEGIN:VEVENT
DTSTART;TZID=Australia/Sydney:20180830T091500
DTEND;TZID=Australia/Sydney:20180830T101500
DTSTAMP:20180830T091500Z
UID:8d719037-0a3d-454b-9725-3211fb13d331
LOCATION:
SUMMARY;LANGUAGE=en-us:Book Week Parade
SEQUENCE:0
DESCRIPTION:Book Week Parade
END:VEVENT
TRANSP:TRANSPARENT
END:VCALENDAR
