BEGIN:VCALENDAR
VERSION:2.0
PRODID:-//Department Of Education//42655e68-aff4-44ff-8f2e-2939f4bb5bc2
BEGIN:VTIMEZONE
TZID:Australia/Sydney
TZURL:http://tzurl.org/zoneinfo-outlook/Australia/Sydney
X-LIC-LOCATION:Australia/Sydney
BEGIN:STANDARD
TZOFFSETFROM:+1100
TZOFFSETTO:+1000
TZNAME:AEST
DTSTART:19700405T030000
RRULE:FREQ=YEARLY;BYMONTH=4;BYDAY=1SU
END:STANDARD
BEGIN:DAYLIGHT
TZOFFSETFROM:+1000
TZOFFSETTO:+1100
TZNAME:AEDT
DTSTART:19701004T020000
RRULE:FREQ=YEARLY;BYMONTH=10;BYDAY=1SU
END:DAYLIGHT
END:VTIMEZONE
CALSCALE:GREGORIAN
X-WR-TIMEZONE:Australia/Sydney
BEGIN:VEVENT
DTSTART;TZID=Australia/Sydney:20180809T100000
DTEND;TZID=Australia/Sydney:20180809T120000
DTSTAMP:20180809T100000Z
UID:e7e0dfad-352e-40d2-8a31-286390cf914d
LOCATION:
SUMMARY;LANGUAGE=en-us:Education Week Open Day
SEQUENCE:0
DESCRIPTION:Education Week Open Day
END:VEVENT
TRANSP:TRANSPARENT
END:VCALENDAR
