BEGIN:VCALENDAR
VERSION:2.0
PRODID:-//Department Of Education//19b8f155-08cf-405a-9c33-e0587c6109a0
BEGIN:VTIMEZONE
TZID:Australia/Sydney
TZURL:http://tzurl.org/zoneinfo-outlook/Australia/Sydney
X-LIC-LOCATION:Australia/Sydney
BEGIN:STANDARD
TZOFFSETFROM:+1100
TZOFFSETTO:+1000
TZNAME:AEST
DTSTART:19700405T030000
RRULE:FREQ=YEARLY;BYMONTH=4;BYDAY=1SU
END:STANDARD
BEGIN:DAYLIGHT
TZOFFSETFROM:+1000
TZOFFSETTO:+1100
TZNAME:AEDT
DTSTART:19701004T020000
RRULE:FREQ=YEARLY;BYMONTH=10;BYDAY=1SU
END:DAYLIGHT
END:VTIMEZONE
CALSCALE:GREGORIAN
X-WR-TIMEZONE:Australia/Sydney
BEGIN:VEVENT
DTSTART;TZID=Australia/Sydney:20180831T080000
DTEND;TZID=Australia/Sydney:20180831T090000
DTSTAMP:20180831T080000Z
UID:2a0188d2-b62e-4204-bba6-f456c8352b42
LOCATION:
SUMMARY;LANGUAGE=en-us:Father's Day Breakfast
SEQUENCE:0
DESCRIPTION:Father's Day Breakfast
END:VEVENT
TRANSP:TRANSPARENT
END:VCALENDAR
