BEGIN:VCALENDAR
VERSION:2.0
PRODID:-//Department Of Education//1b48636d-8169-4395-8376-1002a463a5fe
BEGIN:VTIMEZONE
TZID:Australia/Sydney
TZURL:http://tzurl.org/zoneinfo-outlook/Australia/Sydney
X-LIC-LOCATION:Australia/Sydney
BEGIN:STANDARD
TZOFFSETFROM:+1100
TZOFFSETTO:+1000
TZNAME:AEST
DTSTART:19700405T030000
RRULE:FREQ=YEARLY;BYMONTH=4;BYDAY=1SU
END:STANDARD
BEGIN:DAYLIGHT
TZOFFSETFROM:+1000
TZOFFSETTO:+1100
TZNAME:AEDT
DTSTART:19701004T020000
RRULE:FREQ=YEARLY;BYMONTH=10;BYDAY=1SU
END:DAYLIGHT
END:VTIMEZONE
CALSCALE:GREGORIAN
X-WR-TIMEZONE:Australia/Sydney
BEGIN:VEVENT
DTSTART;TZID=Australia/Sydney:20180814T151500
DTEND;TZID=Australia/Sydney:20180814T161500
DTSTAMP:20180814T151500Z
UID:57fd4079-773b-4d71-80c7-80b4fb297081
LOCATION:
SUMMARY;LANGUAGE=en-us:P&C Meeting
SEQUENCE:0
DESCRIPTION:P&C Meeting
END:VEVENT
TRANSP:TRANSPARENT
END:VCALENDAR
