BEGIN:VCALENDAR
VERSION:2.0
PRODID:-//Department Of Education//dda42181-cfed-450a-8444-1d20af2db630
BEGIN:VTIMEZONE
TZID:Australia/Sydney
TZURL:http://tzurl.org/zoneinfo-outlook/Australia/Sydney
X-LIC-LOCATION:Australia/Sydney
BEGIN:STANDARD
TZOFFSETFROM:+1100
TZOFFSETTO:+1000
TZNAME:AEST
DTSTART:19700405T030000
RRULE:FREQ=YEARLY;BYMONTH=4;BYDAY=1SU
END:STANDARD
BEGIN:DAYLIGHT
TZOFFSETFROM:+1000
TZOFFSETTO:+1100
TZNAME:AEDT
DTSTART:19701004T020000
RRULE:FREQ=YEARLY;BYMONTH=10;BYDAY=1SU
END:DAYLIGHT
END:VTIMEZONE
CALSCALE:GREGORIAN
X-WR-TIMEZONE:Australia/Sydney
BEGIN:VEVENT
DTSTART;VALUE=DATE:20180802
DTEND;VALUE=DATE:20180803
DTSTAMP:20180802T000000Z
UID:8434fe68-a760-4cd1-919b-c2b68adba545
LOCATION:
SUMMARY;LANGUAGE=en-us:School NAIDOC Day
SEQUENCE:0
DESCRIPTION:School NAIDOC Day
END:VEVENT
TRANSP:TRANSPARENT
END:VCALENDAR
